BEGIN:VCALENDAR
VERSION:2.0
PRODID:-//MotorsportReg//iCal 2.0//EN
CALSCALE:GREGORIAN
METHOD:PUBLISH
X-WR-TIMEZONE:US/Pacific
BEGIN:VEVENT
DTSTART:20221009T000000
DTEND:20221010T000000
DTSTAMP:20260421T123133Z
SUMMARY:GAMRA Supermoto
DESCRIPTION:Details: https://nola.motorsportreg.com/events/gamra-supermoto-nola-motorsports-kart-track-park-759391
CATEGORIES:Motocross
TRANSP:TRANSPARENT
UID:78136A23-00DF-656C-E1ECA14975939CE1-at-MotorsportReg.com
LOCATION:NOLA Motorsports - Kart Track\, Avondale\, LA US
GEO:29.89327;-90.20062
URL;VALUE=URI:https://nola.motorsportreg.com/events/gamra-supermoto-nola-motorsports-kart-track-park-759391
END:VEVENT
END:VCALENDAR